BEGIN:VCALENDAR
VERSION:2.0
PRODID:-//Hotel und Restaurant Köhlerhütte - ECPv6.15.20//NONSGML v1.0//EN
CALSCALE:GREGORIAN
METHOD:PUBLISH
X-ORIGINAL-URL:https://koehlerhuette.com
X-WR-CALDESC:Veranstaltungen für Hotel und Restaurant Köhlerhütte
REFRESH-INTERVAL;VALUE=DURATION:PT1H
X-Robots-Tag:noindex
X-PUBLISHED-TTL:PT1H
BEGIN:VTIMEZONE
TZID:Europe/Berlin
BEGIN:DAYLIGHT
TZOFFSETFROM:+0100
TZOFFSETTO:+0200
TZNAME:CEST
DTSTART:20240331T010000
END:DAYLIGHT
BEGIN:STANDARD
TZOFFSETFROM:+0200
TZOFFSETTO:+0100
TZNAME:CET
DTSTART:20241027T010000
END:STANDARD
BEGIN:DAYLIGHT
TZOFFSETFROM:+0100
TZOFFSETTO:+0200
TZNAME:CEST
DTSTART:20250330T010000
END:DAYLIGHT
BEGIN:STANDARD
TZOFFSETFROM:+0200
TZOFFSETTO:+0100
TZNAME:CET
DTSTART:20251026T010000
END:STANDARD
BEGIN:DAYLIGHT
TZOFFSETFROM:+0100
TZOFFSETTO:+0200
TZNAME:CEST
DTSTART:20260329T010000
END:DAYLIGHT
BEGIN:STANDARD
TZOFFSETFROM:+0200
TZOFFSETTO:+0100
TZNAME:CET
DTSTART:20261025T010000
END:STANDARD
END:VTIMEZONE
BEGIN:VEVENT
DTSTART;VALUE=DATE:20250624
DTEND;VALUE=DATE:20250625
DTSTAMP:20260423T030801
CREATED:20250618T063755Z
LAST-MODIFIED:20251028T095620Z
UID:1380-1750723200-1750809599@koehlerhuette.com
SUMMARY:Halbzeit - Noch 6 Monate bis Weihnachten
DESCRIPTION:Wir bieten den leckeren Gänsebraten und andere Leckereien aus der Weihnachtszeit.\nDazu gibt es Stimmung mit Lichterbogen\, Weihnachtsmusik und Räucherkerzenduft\nTisch-Reservierung unbedingt empfohlen
URL:https://koehlerhuette.com/event/halbzeit-noch-6-monate-bis-weihnachten/
LOCATION:Hotel und Restaurant Köhlerhütte-Fürstenbrunn im Erzgebirge\, Am Fürstenberg 7\, Grünhain- Beierfeld\, Sachsen\, 08344\, Germany
ATTACH;FMTTYPE=image/jpeg:https://koehlerhuette.com/wp-content/uploads/2025/06/thanksgiving-day-leckeres-essensarrangement-scaled.jpg
ORGANIZER;CN="Hotel & Restaurant K%C3%B6hlerh%C3%BCtte F%C3%BCrstenbrunn":MAILTO:info@koehlerhuette.com
END:VEVENT
END:VCALENDAR