BEGIN:VCALENDAR
VERSION:2.0
PRODID:-//Hotel und Restaurant Köhlerhütte - ECPv6.15.20//NONSGML v1.0//EN
CALSCALE:GREGORIAN
METHOD:PUBLISH
X-WR-CALNAME:Hotel und Restaurant Köhlerhütte
X-ORIGINAL-URL:https://koehlerhuette.com
X-WR-CALDESC:Veranstaltungen für Hotel und Restaurant Köhlerhütte
REFRESH-INTERVAL;VALUE=DURATION:PT1H
X-Robots-Tag:noindex
X-PUBLISHED-TTL:PT1H
BEGIN:VTIMEZONE
TZID:Europe/Berlin
BEGIN:DAYLIGHT
TZOFFSETFROM:+0100
TZOFFSETTO:+0200
TZNAME:CEST
DTSTART:20260329T010000
END:DAYLIGHT
BEGIN:STANDARD
TZOFFSETFROM:+0200
TZOFFSETTO:+0100
TZNAME:CET
DTSTART:20261025T010000
END:STANDARD
BEGIN:DAYLIGHT
TZOFFSETFROM:+0100
TZOFFSETTO:+0200
TZNAME:CEST
DTSTART:20270328T010000
END:DAYLIGHT
BEGIN:STANDARD
TZOFFSETFROM:+0200
TZOFFSETTO:+0100
TZNAME:CET
DTSTART:20271031T010000
END:STANDARD
BEGIN:DAYLIGHT
TZOFFSETFROM:+0100
TZOFFSETTO:+0200
TZNAME:CEST
DTSTART:20280326T010000
END:DAYLIGHT
BEGIN:STANDARD
TZOFFSETFROM:+0200
TZOFFSETTO:+0100
TZNAME:CET
DTSTART:20281029T010000
END:STANDARD
END:VTIMEZONE
BEGIN:VEVENT
DTSTART;VALUE=DATE:20270129
DTEND;VALUE=DATE:20270208
DTSTAMP:20260423T024658
CREATED:20250121T065748Z
LAST-MODIFIED:20260209T130602Z
UID:862-1801180800-1802044799@koehlerhuette.com
SUMMARY:Traditionelles Schlacht- und Bockbierfest
DESCRIPTION:Traditionelles Schlacht- und Bockbierfest\nTolle Stimmung durch Live-Musik beim Bockbierfest in der Köhlerhütte-Fürstenbrunn mit erzgebirgischen Schlachtfestspezialitäten und hier die Karte für „De Uhiesigen“ Herzlich Willkommen – für freuen uns auf Ihren Besuch\nund leckerem Asam-Bockbier aus der ältesten Klosterbrauerei der Welt. \nDazu an den Wochenenden erzgebirgische Live-Musik zum Mitsingen.\n29.+30.01.27 ab 19.00 Uhr De Buchholzer\n31.01.2027 ab 11.00 Uhr bis zirka 15.00 Uhr Kendy John Kretzschmar\n5.+6.02.27 ab 19.00 Uhr Spiegelwald-Harzer\n7.02.27 ab 11.00 Uhr bis zirka 15.00 Uhr Kendy John Kretzschmar \nGenießen Sie das gute Essen\, Bockbier und die legendäre Atmosphäre in der historischen Köhlerhütte-Fürstenbrunn \nPlatzreservierung dringend empfohlen! 03774/1598-0
URL:https://koehlerhuette.com/event/traditionelles-schlacht-und-bockbierfest/
LOCATION:Hotel und Restaurant Köhlerhütte-Fürstenbrunn im Erzgebirge\, Am Fürstenberg 7\, Grünhain- Beierfeld\, Sachsen\, 08344\, Germany
ATTACH;FMTTYPE=image/jpeg:https://koehlerhuette.com/wp-content/uploads/2025/01/Titelbild.jpg
ORGANIZER;CN="Hotel & Restaurant K%C3%B6hlerh%C3%BCtte F%C3%BCrstenbrunn":MAILTO:info@koehlerhuette.com
END:VEVENT
END:VCALENDAR