BEGIN:VCALENDAR
VERSION:2.0
PRODID:-//Hotel und Restaurant Köhlerhütte - ECPv6.15.20//NONSGML v1.0//EN
CALSCALE:GREGORIAN
METHOD:PUBLISH
X-WR-CALNAME:Hotel und Restaurant Köhlerhütte
X-ORIGINAL-URL:https://koehlerhuette.com
X-WR-CALDESC:Veranstaltungen für Hotel und Restaurant Köhlerhütte
REFRESH-INTERVAL;VALUE=DURATION:PT1H
X-Robots-Tag:noindex
X-PUBLISHED-TTL:PT1H
BEGIN:VTIMEZONE
TZID:Europe/Berlin
BEGIN:DAYLIGHT
TZOFFSETFROM:+0100
TZOFFSETTO:+0200
TZNAME:CEST
DTSTART:20250330T010000
END:DAYLIGHT
BEGIN:STANDARD
TZOFFSETFROM:+0200
TZOFFSETTO:+0100
TZNAME:CET
DTSTART:20251026T010000
END:STANDARD
BEGIN:DAYLIGHT
TZOFFSETFROM:+0100
TZOFFSETTO:+0200
TZNAME:CEST
DTSTART:20260329T010000
END:DAYLIGHT
BEGIN:STANDARD
TZOFFSETFROM:+0200
TZOFFSETTO:+0100
TZNAME:CET
DTSTART:20261025T010000
END:STANDARD
BEGIN:DAYLIGHT
TZOFFSETFROM:+0100
TZOFFSETTO:+0200
TZNAME:CEST
DTSTART:20270328T010000
END:DAYLIGHT
BEGIN:STANDARD
TZOFFSETFROM:+0200
TZOFFSETTO:+0100
TZNAME:CET
DTSTART:20271031T010000
END:STANDARD
BEGIN:DAYLIGHT
TZOFFSETFROM:+0100
TZOFFSETTO:+0200
TZNAME:CEST
DTSTART:20280326T010000
END:DAYLIGHT
BEGIN:STANDARD
TZOFFSETFROM:+0200
TZOFFSETTO:+0100
TZNAME:CET
DTSTART:20281029T010000
END:STANDARD
END:VTIMEZONE
BEGIN:VEVENT
DTSTART;TZID=Europe/Berlin:20260416T150000
DTEND;TZID=Europe/Berlin:20260426T170000
DTSTAMP:20260420T051859
CREATED:20251004T112105Z
LAST-MODIFIED:20260405T085735Z
UID:2845-1776351600-1777222800@koehlerhuette.com
SUMMARY:13. Historischer Meiler
DESCRIPTION:Die Sensation in Waschleithe \nHolzkohle hergestellt wie vor rund 570 Jahren vom Köhler Schmidt\, dem Helden des Sächsischen Prinzenraubes von 1455 \nAuf der Spur von gelebten Geschichten und traditionellem Köhler-Handwerk… \n …an der Köhlerhütte-Fürstenbrunn in Waschleithe raucht endlich wieder ein Meiler nach historischem Vorbild mit dem Köhler HEIKO Schmidt und seinen Freunden. Besuchen Sie die Köhler am rauchenden Meiler und erleben Sie Geschichte und Geschichten \n16.04.26 ab 15.00 Uhr Start des Aufbaus\n19.04.26 ab 14.30 Uhr Anzünden des Meilers durch Kevin Roch\, Sebastian Paraschiv\, Stefan Swat und Manager Rüdiger Jurke des\nEHV Aue mit einem Interview und Autogrammen sowie mit Live-Musik der Gruppe Duo Aaflug\nmoderiert von Daniel Pavel von HITRADIO RTL\ndazu gibt es natürlich Gegrilltes\, Suppe\, Hausbegackenes und gute Getränke unter anderem auch „Köhler-Bier“\n26.04.26 ab 8.00 Uhr  Aufbrechen des Meilers und Ernte der Holzkohle auf unserem Parkplatz\ndazu gibt es natürlich Gegrilltes\, Suppe\, Hausgebackenes und gute Getränke unter anderem auch „Köhler-Bier“\nab 14.00 Uhr                 Erzgebirische Live-Musik mit der Gruppe Barggeschrey\nab 15.00 Uhr                 Verkauf der Original Fürstenbrunner Holzkohle
URL:https://koehlerhuette.com/event/13-historischer-meiler/
LOCATION:Hotel und Restaurant Köhlerhütte-Fürstenbrunn im Erzgebirge\, Am Fürstenberg 7\, Grünhain- Beierfeld\, Sachsen\, 08344\, Germany
ATTACH;FMTTYPE=image/jpeg:https://koehlerhuette.com/wp-content/uploads/2025/10/20230417_123010-e1759651331563.jpg
ORGANIZER;CN="Hotel & Restaurant K%C3%B6hlerh%C3%BCtte F%C3%BCrstenbrunn":MAILTO:info@koehlerhuette.com
END:VEVENT
BEGIN:VEVENT
DTSTART;TZID=Europe/Berlin:20260501T110000
DTEND;TZID=Europe/Berlin:20260501T170000
DTSTAMP:20260420T051859
CREATED:20250124T070704Z
LAST-MODIFIED:20260405T085652Z
UID:896-1777633200-1777654800@koehlerhuette.com
SUMMARY:Offizielle Biergarten-Saisoneröffnung
DESCRIPTION:wir bieten Ihnen in unserem Biergarten verschiedene Grillspezialitäten\, Suppe\, hausgebackenen Kuchen\, frisch Gezapftes und viele weiteren Leckereien.\nab 14 Uhr Blasmusik mit den Erzgebirgischen Blas-Musikanten Zwönitz/Affalter
URL:https://koehlerhuette.com/event/offizielle-biergarten-saisoneroeffnung/
LOCATION:Hotel und Restaurant Köhlerhütte-Fürstenbrunn im Erzgebirge\, Am Fürstenberg 7\, Grünhain- Beierfeld\, Sachsen\, 08344\, Germany
ATTACH;FMTTYPE=image/jpeg:https://koehlerhuette.com/wp-content/uploads/2025/01/20240424_192403.jpg
ORGANIZER;CN="Hotel & Restaurant K%C3%B6hlerh%C3%BCtte F%C3%BCrstenbrunn":MAILTO:info@koehlerhuette.com
END:VEVENT
BEGIN:VEVENT
DTSTART;TZID=Europe/Berlin:20260510T110000
DTEND;TZID=Europe/Berlin:20260510T150000
DTSTAMP:20260420T051859
CREATED:20250124T070756Z
LAST-MODIFIED:20260411T100328Z
UID:898-1778410800-1778425200@koehlerhuette.com
SUMMARY:Spargel-Büffet zum Muttertag
DESCRIPTION:Nehmen Sie sich die Zeit für Familie! Laden Sie Ihre Mutter ein und genießen Sie bei uns in der Köhlerhütte-Fürstenbrunn das vorzügliche Angebot vom reichhaltigen Kalt-Warmen-Büffet mit Sächsischem Spargel in vielen Varianten und mit Beilagen \nTelefonische Reservierung unter 03774/1598-0\nPreise: 42\,00 Euro pro Erwachsener\, 23\,00 Euro für Kinder von 6-16 Jahren und Kinder unter 5 Jahre sind kostenfrei \nBitte beachten Sie\, dass am 10. Mai 2026 ab 15.00 Uhr anlässlich 100 Jahre Schaubergwerk Waschleithe ein Bergmannsaufzug stattfindet\nAbreise ist daher nur bis 14.30 Uhr möglich.\nWir empfehlen allerdings den Bergaufzug als Zuschauer zu genießen
URL:https://koehlerhuette.com/event/spargel-bueffet-zum-muttertag/
LOCATION:Hotel und Restaurant Köhlerhütte-Fürstenbrunn im Erzgebirge\, Am Fürstenberg 7\, Grünhain- Beierfeld\, Sachsen\, 08344\, Germany
ATTACH;FMTTYPE=image/jpeg:https://koehlerhuette.com/wp-content/uploads/2025/01/Eintrittskarte_Muttertags_Spargelbueffet_2026.jpg
ORGANIZER;CN="Hotel & Restaurant K%C3%B6hlerh%C3%BCtte F%C3%BCrstenbrunn":MAILTO:info@koehlerhuette.com
END:VEVENT
BEGIN:VEVENT
DTSTART;VALUE=DATE:20260514
DTEND;VALUE=DATE:20260515
DTSTAMP:20260420T051859
CREATED:20250124T070836Z
LAST-MODIFIED:20260411T101715Z
UID:900-1778716800-1778803199@koehlerhuette.com
SUMMARY:Christi Himmelfahrt
DESCRIPTION:Männer- und Familientag an traditioneller und historischer Stätte vor der Köhlerhütte-Fürstenbrunn\nmit Deftigem vom Grill\, Suppe\, hausgebackenen Kuchen sowie guten Getränken.\nHier können Sie was erleben\, viel lustige Truppen laufen oder fahren uns mit historischen Gefährten an und tragen sogar zum Kulturprogramm teil\nDen ganzen Tag Musik und Spass live mit der Partyband Mittendrin
URL:https://koehlerhuette.com/event/christi-himmelfahrt/
LOCATION:Hotel und Restaurant Köhlerhütte-Fürstenbrunn im Erzgebirge\, Am Fürstenberg 7\, Grünhain- Beierfeld\, Sachsen\, 08344\, Germany
ATTACH;FMTTYPE=image/jpeg:https://koehlerhuette.com/wp-content/uploads/2025/01/IMG-20220527-WA0009.jpg
ORGANIZER;CN="Hotel & Restaurant K%C3%B6hlerh%C3%BCtte F%C3%BCrstenbrunn":MAILTO:info@koehlerhuette.com
END:VEVENT
BEGIN:VEVENT
DTSTART;VALUE=DATE:20260524
DTEND;VALUE=DATE:20260526
DTSTAMP:20260420T051859
CREATED:20250429T071412Z
LAST-MODIFIED:20260404T115000Z
UID:1183-1779580800-1779753599@koehlerhuette.com
SUMMARY:Pfingsten an der Köhlerhütte
DESCRIPTION:ein lohnendes Wanderziel für Ihren Pfingstausflug im Erzgebirge. \nIm Biergarten bieten wir Schwein am Spieß auf offenen Feuer gegrillt\,\nGrill-Spezialitäten\, Suppe\, gute Getränke\, Eis\, hausgebackenen Kuchen und vieles mehr… \nPfingst-Sonntag\n14.00 – 16.00 Uhr Stimmungsvolles Erzgebirgisches Volksmusik-Live-Programm De Hutzenbossen \nPfingst-Montag\n14.00 – 16.00 Uhr Stimmungsvolles Programm mit der Schalmeienkapelle Steinbach
URL:https://koehlerhuette.com/event/pfingsten-an-der-koehlerhuette/
LOCATION:Hotel und Restaurant Köhlerhütte-Fürstenbrunn im Erzgebirge\, Am Fürstenberg 7\, Grünhain- Beierfeld\, Sachsen\, 08344\, Germany
ATTACH;FMTTYPE=image/jpeg:https://koehlerhuette.com/wp-content/uploads/2025/04/Plakat_Pfingsten2025.jpg
ORGANIZER;CN="Hotel & Restaurant K%C3%B6hlerh%C3%BCtte F%C3%BCrstenbrunn":MAILTO:info@koehlerhuette.com
END:VEVENT
BEGIN:VEVENT
DTSTART;TZID=Europe/Berlin:20260601T140000
DTEND;TZID=Europe/Berlin:20260601T170000
DTSTAMP:20260420T051859
CREATED:20250429T055917Z
LAST-MODIFIED:20260405T085933Z
UID:1181-1780322400-1780333200@koehlerhuette.com
SUMMARY:KinderTag an der Köhlerhütte
DESCRIPTION:mit tollem Aktionsspielplatz und Bastelstrasse\nRundfahrten mit dem Feuerwehr-Auto\nPonyreiten mit dem Reitverein aus Grünstädtl\nLagerfeuer mit Knüppelkuchen\nKinderschminken mit Biene\n\n… und natürlich vielen Leckereien wie Eis am Stiel\, hausgebackenen Kuchen\, Hot Dog\, roter und grüner Fassbrause und vielem mehr…
URL:https://koehlerhuette.com/event/kindertag-an-der-koehlerhuette/
LOCATION:Hotel und Restaurant Köhlerhütte-Fürstenbrunn im Erzgebirge\, Am Fürstenberg 7\, Grünhain- Beierfeld\, Sachsen\, 08344\, Germany
ATTACH;FMTTYPE=image/jpeg:https://koehlerhuette.com/wp-content/uploads/2024/12/Koehlerhuette-135-scaled.jpg
ORGANIZER;CN="Hotel & Restaurant K%C3%B6hlerh%C3%BCtte F%C3%BCrstenbrunn":MAILTO:info@koehlerhuette.com
END:VEVENT
BEGIN:VEVENT
DTSTART;TZID=Europe/Berlin:20260624T110000
DTEND;TZID=Europe/Berlin:20260629T220000
DTSTAMP:20260420T051859
CREATED:20260403T115730Z
LAST-MODIFIED:20260403T120617Z
UID:3568-1782298800-1782770400@koehlerhuette.com
SUMMARY:Halbzeit - Noch 6 Monate bis Weihnachten
DESCRIPTION:Am 24. Juni erinnern wir daran\, dass es nur noch 6 Monate bis Weihnachten sind.\nTraditionell wird dieses Ereignis in der Köhlerhütte-Fürstenbrunn mit einem kleinen Fest begangen. Zu diesem Anlass bieten wir Ihnen leckere Weihnachtsgerichte unter anderem Gans\, Wild und Glühwein sowie Weihnachtsstimmung mit Schwibbogen\, Weihnachtsmusik und Räucherkerzenduft.\nAls Besonderheit gibt es Stollen mit frischen Erdbeeren.\nBesucher mit Weihnachtsmannmütze erhalten eine Köhlerträne gratis
URL:https://koehlerhuette.com/event/karpfen-2/
LOCATION:Hotel und Restaurant Köhlerhütte-Fürstenbrunn im Erzgebirge\, Am Fürstenberg 7\, Grünhain- Beierfeld\, Sachsen\, 08344\, Germany
ATTACH;FMTTYPE=image/jpeg:https://koehlerhuette.com/wp-content/uploads/2026/04/20170622-Gaesesbraten_JED-6-Kopie.jpg
ORGANIZER;CN="Hotel & Restaurant K%C3%B6hlerh%C3%BCtte F%C3%BCrstenbrunn":MAILTO:info@koehlerhuette.com
END:VEVENT
BEGIN:VEVENT
DTSTART;TZID=Europe/Berlin:20260705T100000
DTEND;TZID=Europe/Berlin:20260705T160000
DTSTAMP:20260420T051859
CREATED:20260405T084841Z
LAST-MODIFIED:20260405T085459Z
UID:3598-1783245600-1783267200@koehlerhuette.com
SUMMARY:Weißbierfest
DESCRIPTION:Zünftiger Frühschoppen \nmit allerlei bayerischen Schmankerln\, wie Weißwürst\, Leberkäs\, Obatzda\, Münchner Haxn und Brezn dazu feines Weißbier frisch vom Fass\n10-16 spielt dazu eine Kapelle Bayerische stimmungsvolle Bierzelt-Musi \nBesucher in Tracht erhalten ein Freigetränk
URL:https://koehlerhuette.com/event/offizielle-biergarten-saisoneroeffnung-2/
LOCATION:Hotel und Restaurant Köhlerhütte-Fürstenbrunn im Erzgebirge\, Am Fürstenberg 7\, Grünhain- Beierfeld\, Sachsen\, 08344\, Germany
ATTACH;FMTTYPE=image/jpeg:https://koehlerhuette.com/wp-content/uploads/2026/04/20200719_100042.jpg
ORGANIZER;CN="Hotel & Restaurant K%C3%B6hlerh%C3%BCtte F%C3%BCrstenbrunn":MAILTO:info@koehlerhuette.com
END:VEVENT
BEGIN:VEVENT
DTSTART;TZID=Europe/Berlin:20261003T110000
DTEND;TZID=Europe/Berlin:20261003T170000
DTSTAMP:20260420T051859
CREATED:20251004T104435Z
LAST-MODIFIED:20260405T085427Z
UID:2840-1791025200-1791046800@koehlerhuette.com
SUMMARY:Jagd- und Weinfest
DESCRIPTION:Eröffnung der Wildsaison in der Köhlerhütte geboten werden wilde Grillspezialitäten hausgebackener Kuchen und andere Leckereien\,\n* Kinderprogramm\n* Ermittlung eines Schützenkönig mit dem Luftgewehr auf Scheibe anschließend mit Preisverleihung\n* Weinverkostung und Verkauf ausgesuchter Weine von unserem befreundeten Weingut\nund aus unserem Sortiment\n12.30 Uhr und 15.00 Uhr Großes Halali mit den Original Grünhainer Jagdhornbläser \n 
URL:https://koehlerhuette.com/event/1372-2/
LOCATION:Hotel und Restaurant Köhlerhütte-Fürstenbrunn im Erzgebirge\, Am Fürstenberg 7\, Grünhain- Beierfeld\, Sachsen\, 08344\, Germany
ATTACH;FMTTYPE=image/jpeg:https://koehlerhuette.com/wp-content/uploads/2025/06/20131003_123630_LLS-1-scaled.avif
ORGANIZER;CN="Hotel & Restaurant K%C3%B6hlerh%C3%BCtte F%C3%BCrstenbrunn":MAILTO:info@koehlerhuette.com
END:VEVENT
BEGIN:VEVENT
DTSTART;TZID=Europe/Berlin:20261011T110000
DTEND;TZID=Europe/Berlin:20261011T150000
DTSTAMP:20260420T051859
CREATED:20250618T063024Z
LAST-MODIFIED:20251028T095153Z
UID:1368-1791716400-1791730800@koehlerhuette.com
SUMMARY:Buntes Herbst-Büffet "Erntedank-Fest"
DESCRIPTION:Antipasti und Salate \nAndre am Bufett \n\nChefin und Küchenchef am Büffet \nGenießen Sie mit Freunden und Familie einen entspannten Sonntag mit gutem Essen vom reichhaltigen Kalt-Warmen Büffet mit vielen aus heimischen Wäldern\, Feldern und von heimischer Flur (unter anderem auch mit Wildbraten und Vugelbeerspezialitäten) soviel Sie wollen. \nTelefonische Reservierung unter 03774/1598-0\nPreise:  ??\,?? Euro pro Erwachsener\,  ??\,?? Euro für Kinder von 6-16 Jahren und Kinder unter 5 Jahre sind kostenfrei
URL:https://koehlerhuette.com/event/buntes-herbst-bueffet-erntedank-fest/
LOCATION:Hotel und Restaurant Köhlerhütte-Fürstenbrunn im Erzgebirge\, Am Fürstenberg 7\, Grünhain- Beierfeld\, Sachsen\, 08344\, Germany
ATTACH;FMTTYPE=image/jpeg:https://koehlerhuette.com/wp-content/uploads/2025/06/Chefin-kocht-am-Bueffet.jpg
ORGANIZER;CN="Hotel & Restaurant K%C3%B6hlerh%C3%BCtte F%C3%BCrstenbrunn":MAILTO:info@koehlerhuette.com
END:VEVENT
BEGIN:VEVENT
DTSTART;TZID=Europe/Berlin:20261024T180000
DTEND;TZID=Europe/Berlin:20261024T230000
DTSTAMP:20260420T051859
CREATED:20251028T085533Z
LAST-MODIFIED:20251028T122544Z
UID:2930-1792864800-1792882800@koehlerhuette.com
SUMMARY:Tanz in die Winterzeit
DESCRIPTION: (Umstellung der Uhr – 1 Stunde länger schlafen)\n… im Prinzensaal mit Live-Tanz-Musik von Gunther Schulze\nfür jedes Alter sowie gutem Essen\, feinen Weinen und leckeren Cocktails\nPlatzreservierung wird dringend empfohlen\nEintritt: 10\,00 Euro
URL:https://koehlerhuette.com/event/tanz-in-die-winterzeit/
LOCATION:Hotel und Restaurant Köhlerhütte-Fürstenbrunn im Erzgebirge\, Am Fürstenberg 7\, Grünhain- Beierfeld\, Sachsen\, 08344\, Germany
ATTACH;FMTTYPE=image/jpeg:https://koehlerhuette.com/wp-content/uploads/2025/06/GunterSchulze-e1759824359987.jpg
ORGANIZER;CN="Hotel & Restaurant K%C3%B6hlerh%C3%BCtte F%C3%BCrstenbrunn":MAILTO:info@koehlerhuette.com
END:VEVENT
BEGIN:VEVENT
DTSTART;VALUE=DATE:20261106
DTEND;VALUE=DATE:20261109
DTSTAMP:20260420T051859
CREATED:20250618T062659Z
LAST-MODIFIED:20251110T113751Z
UID:1362-1793923200-1794182399@koehlerhuette.com
SUMMARY:Kleines Schlacht- und Bockbierfest
DESCRIPTION:mit erzgebirgischen Schlachtfestspezialitäten und\nleckerem Asam-Bockbier aus der ältesten Klosterbrauerei der Welt.\nDazu am Freitag- und Samstagabend sowie Sonntagmittag\nerzgebirgische Live-Musik zum Mitsingen am \nGenießen Sie Spass und die legendäre Atmosphäre in der historischen Köhlerhütte-Fürstenbrunn
URL:https://koehlerhuette.com/event/kleines-schlacht-und-bockbierfest/
LOCATION:Hotel und Restaurant Köhlerhütte-Fürstenbrunn im Erzgebirge\, Am Fürstenberg 7\, Grünhain- Beierfeld\, Sachsen\, 08344\, Germany
ATTACH;FMTTYPE=image/jpeg:https://koehlerhuette.com/wp-content/uploads/2025/06/Bockbierfeststimmung.jpg
ORGANIZER;CN="Hotel & Restaurant K%C3%B6hlerh%C3%BCtte F%C3%BCrstenbrunn":MAILTO:info@koehlerhuette.com
END:VEVENT
BEGIN:VEVENT
DTSTART;VALUE=DATE:20261111
DTEND;VALUE=DATE:20261116
DTSTAMP:20260420T051859
CREATED:20250618T062534Z
LAST-MODIFIED:20251121T090304Z
UID:1359-1794355200-1794787199@koehlerhuette.com
SUMMARY:Wir feiern Sankt Martin
DESCRIPTION:mit verschieden Spezialitäten von der Gans \nDazu unser spezielles Angebot „Ganze Gans komplett“ \n1 Ganze Gans dazu Rotkohl\, Rosenkohl\, Klöße und Brieh sowie 1 Flasche Rotwein und 1 Flasche Wasser\n– Empfehlung 1 Gans für zirka 4-6 Personen\n(Ganze Gans nur auf Vorbestellung)
URL:https://koehlerhuette.com/event/wir-feiern-sankt-martin/
LOCATION:Hotel und Restaurant Köhlerhütte-Fürstenbrunn im Erzgebirge\, Am Fürstenberg 7\, Grünhain- Beierfeld\, Sachsen\, 08344\, Germany
ATTACH;FMTTYPE=image/jpeg:https://koehlerhuette.com/wp-content/uploads/2025/06/Ganze-Gans-komplett.jpg
ORGANIZER;CN="Hotel & Restaurant K%C3%B6hlerh%C3%BCtte F%C3%BCrstenbrunn":MAILTO:info@koehlerhuette.com
END:VEVENT
BEGIN:VEVENT
DTSTART;TZID=Europe/Berlin:20261231T180000
DTEND;TZID=Europe/Berlin:20270101T010000
DTSTAMP:20260420T051859
CREATED:20250618T062135Z
LAST-MODIFIED:20260209T131050Z
UID:1353-1798740000-1798765200@koehlerhuette.com
SUMMARY:Silvesterfeier
DESCRIPTION:Starten Sie mit uns in ein neues Jahr \n* Begrüßungsdrink\n* 3-Gang-Auswahl-Menü\n* zirka 1 Stunde Stimmungs-Musik mit De Buchholzer\n* professionelles Feuerwerk\n* 1 Glas Sekt zum Anstoßen\n* Ende spätestens 1.00 Uhr \nEintritt: ??\,?? Euro pro Person\nReservierungen unter 03774/1598-0
URL:https://koehlerhuette.com/event/silvesterfeier/
LOCATION:Hotel und Restaurant Köhlerhütte-Fürstenbrunn im Erzgebirge\, Am Fürstenberg 7\, Grünhain- Beierfeld\, Sachsen\, 08344\, Germany
ATTACH;FMTTYPE=image/jpeg:https://koehlerhuette.com/wp-content/uploads/2025/06/Silvester.jpg
ORGANIZER;CN="Hotel & Restaurant K%C3%B6hlerh%C3%BCtte F%C3%BCrstenbrunn":MAILTO:info@koehlerhuette.com
END:VEVENT
BEGIN:VEVENT
DTSTART;VALUE=DATE:20270129
DTEND;VALUE=DATE:20270208
DTSTAMP:20260420T051859
CREATED:20250121T065748Z
LAST-MODIFIED:20260209T130602Z
UID:862-1801180800-1802044799@koehlerhuette.com
SUMMARY:Traditionelles Schlacht- und Bockbierfest
DESCRIPTION:Traditionelles Schlacht- und Bockbierfest\nTolle Stimmung durch Live-Musik beim Bockbierfest in der Köhlerhütte-Fürstenbrunn mit erzgebirgischen Schlachtfestspezialitäten und hier die Karte für „De Uhiesigen“ Herzlich Willkommen – für freuen uns auf Ihren Besuch\nund leckerem Asam-Bockbier aus der ältesten Klosterbrauerei der Welt. \nDazu an den Wochenenden erzgebirgische Live-Musik zum Mitsingen.\n29.+30.01.27 ab 19.00 Uhr De Buchholzer\n31.01.2027 ab 11.00 Uhr bis zirka 15.00 Uhr Kendy John Kretzschmar\n5.+6.02.27 ab 19.00 Uhr Spiegelwald-Harzer\n7.02.27 ab 11.00 Uhr bis zirka 15.00 Uhr Kendy John Kretzschmar \nGenießen Sie das gute Essen\, Bockbier und die legendäre Atmosphäre in der historischen Köhlerhütte-Fürstenbrunn \nPlatzreservierung dringend empfohlen! 03774/1598-0
URL:https://koehlerhuette.com/event/traditionelles-schlacht-und-bockbierfest/
LOCATION:Hotel und Restaurant Köhlerhütte-Fürstenbrunn im Erzgebirge\, Am Fürstenberg 7\, Grünhain- Beierfeld\, Sachsen\, 08344\, Germany
ATTACH;FMTTYPE=image/jpeg:https://koehlerhuette.com/wp-content/uploads/2025/01/Titelbild.jpg
ORGANIZER;CN="Hotel & Restaurant K%C3%B6hlerh%C3%BCtte F%C3%BCrstenbrunn":MAILTO:info@koehlerhuette.com
END:VEVENT
BEGIN:VEVENT
DTSTART;VALUE=DATE:20270326
DTEND;VALUE=DATE:20270328
DTSTAMP:20260420T051859
CREATED:20250618T061321Z
LAST-MODIFIED:20260411T095635Z
UID:1345-1806019200-1806191999@koehlerhuette.com
SUMMARY:Karfreitag und Karsamstag
DESCRIPTION:Zum Abschluss der Fastenzeit 2026\nbieten wir an diesen beiden Kar-Tagen\neine zusätzliche Karte mit besonderen Fischspezialitäten. \nTischreservierung wird empfohlen
URL:https://koehlerhuette.com/event/karfreitag-und-karsamstag-2/
LOCATION:Hotel und Restaurant Köhlerhütte-Fürstenbrunn im Erzgebirge\, Am Fürstenberg 7\, Grünhain- Beierfeld\, Sachsen\, 08344\, Germany
ATTACH;FMTTYPE=image/jpeg:https://koehlerhuette.com/wp-content/uploads/2025/06/Scholle_Finkenwerder_Art.jpg
ORGANIZER;CN="Hotel & Restaurant K%C3%B6hlerh%C3%BCtte F%C3%BCrstenbrunn":MAILTO:info@koehlerhuette.com
END:VEVENT
BEGIN:VEVENT
DTSTART;TZID=Europe/Berlin:20270328T110000
DTEND;TZID=Europe/Berlin:20270329T150000
DTSTAMP:20260420T051859
CREATED:20260411T095920Z
LAST-MODIFIED:20260411T100116Z
UID:3630-1806231600-1806332400@koehlerhuette.com
SUMMARY:Ostereier-Suche für Kinder an historischer Stätte
DESCRIPTION:Der Osterhase und seine Gehilfen werden an\nhistorischer Stätte des Sächsischen Prinzenraubes\nfür die Kinder Osternester verstecken.\nOstersonntag und Ostermontag laden wir alle Kinder von 11.00 -15.00 Uhr zur Suche ein. \n… und im Restaurant servieren die fleißigen Mitarbeiter der Köhlerhütte\nlecker Oster-Gerichte nach dem Motto Frühlingserwachen\nTischreservierung dringend empfohlen!
URL:https://koehlerhuette.com/event/offizielle-biergarten-saisoneroeffnung-2-2/
LOCATION:Hotel und Restaurant Köhlerhütte-Fürstenbrunn im Erzgebirge\, Am Fürstenberg 7\, Grünhain- Beierfeld\, Sachsen\, 08344\, Germany
ATTACH;FMTTYPE=image/jpeg:https://koehlerhuette.com/wp-content/uploads/2025/01/Oster-obelisk.jpg
ORGANIZER;CN="Hotel & Restaurant K%C3%B6hlerh%C3%BCtte F%C3%BCrstenbrunn":MAILTO:info@koehlerhuette.com
END:VEVENT
BEGIN:VEVENT
DTSTART;TZID=Europe/Berlin:20270417T180000
DTEND;TZID=Europe/Berlin:20270417T235900
DTSTAMP:20260420T051859
CREATED:20250121T105106Z
LAST-MODIFIED:20260329T125602Z
UID:875-1807984800-1808006340@koehlerhuette.com
SUMMARY:Frühlings-Tanz
DESCRIPTION:… im Prinzensaal mit Live-Musik von den Strings 2.0\nfür jedes Alter sowie gutem Essen\, feinen Weinen und leckeren Cocktails\nPlatz-Reservierung wird dringend empfohlen\nEintritt: 10\,00 Euro
URL:https://koehlerhuette.com/event/tanz-in-den-fruehling/
LOCATION:Hotel und Restaurant Köhlerhütte-Fürstenbrunn im Erzgebirge\, Am Fürstenberg 7\, Grünhain- Beierfeld\, Sachsen\, 08344\, Germany
ATTACH;FMTTYPE=image/jpeg:https://koehlerhuette.com/wp-content/uploads/2025/01/Strings2.jpg
ORGANIZER;CN="Hotel & Restaurant K%C3%B6hlerh%C3%BCtte F%C3%BCrstenbrunn":MAILTO:info@koehlerhuette.com
END:VEVENT
END:VCALENDAR