BEGIN:VCALENDAR
VERSION:2.0
PRODID:-//Hotel und Restaurant Köhlerhütte - ECPv6.15.20//NONSGML v1.0//EN
CALSCALE:GREGORIAN
METHOD:PUBLISH
X-WR-CALNAME:Hotel und Restaurant Köhlerhütte
X-ORIGINAL-URL:https://koehlerhuette.com
X-WR-CALDESC:Veranstaltungen für Hotel und Restaurant Köhlerhütte
REFRESH-INTERVAL;VALUE=DURATION:PT1H
X-Robots-Tag:noindex
X-PUBLISHED-TTL:PT1H
BEGIN:VTIMEZONE
TZID:Europe/Berlin
BEGIN:DAYLIGHT
TZOFFSETFROM:+0100
TZOFFSETTO:+0200
TZNAME:CEST
DTSTART:20250330T010000
END:DAYLIGHT
BEGIN:STANDARD
TZOFFSETFROM:+0200
TZOFFSETTO:+0100
TZNAME:CET
DTSTART:20251026T010000
END:STANDARD
BEGIN:DAYLIGHT
TZOFFSETFROM:+0100
TZOFFSETTO:+0200
TZNAME:CEST
DTSTART:20260329T010000
END:DAYLIGHT
BEGIN:STANDARD
TZOFFSETFROM:+0200
TZOFFSETTO:+0100
TZNAME:CET
DTSTART:20261025T010000
END:STANDARD
BEGIN:DAYLIGHT
TZOFFSETFROM:+0100
TZOFFSETTO:+0200
TZNAME:CEST
DTSTART:20270328T010000
END:DAYLIGHT
BEGIN:STANDARD
TZOFFSETFROM:+0200
TZOFFSETTO:+0100
TZNAME:CET
DTSTART:20271031T010000
END:STANDARD
END:VTIMEZONE
BEGIN:VEVENT
DTSTART;TZID=Europe/Berlin:20260416T150000
DTEND;TZID=Europe/Berlin:20260426T170000
DTSTAMP:20260420T070437
CREATED:20251004T112105Z
LAST-MODIFIED:20260405T085735Z
UID:2845-1776351600-1777222800@koehlerhuette.com
SUMMARY:13. Historischer Meiler
DESCRIPTION:Die Sensation in Waschleithe \nHolzkohle hergestellt wie vor rund 570 Jahren vom Köhler Schmidt\, dem Helden des Sächsischen Prinzenraubes von 1455 \nAuf der Spur von gelebten Geschichten und traditionellem Köhler-Handwerk… \n …an der Köhlerhütte-Fürstenbrunn in Waschleithe raucht endlich wieder ein Meiler nach historischem Vorbild mit dem Köhler HEIKO Schmidt und seinen Freunden. Besuchen Sie die Köhler am rauchenden Meiler und erleben Sie Geschichte und Geschichten \n16.04.26 ab 15.00 Uhr Start des Aufbaus\n19.04.26 ab 14.30 Uhr Anzünden des Meilers durch Kevin Roch\, Sebastian Paraschiv\, Stefan Swat und Manager Rüdiger Jurke des\nEHV Aue mit einem Interview und Autogrammen sowie mit Live-Musik der Gruppe Duo Aaflug\nmoderiert von Daniel Pavel von HITRADIO RTL\ndazu gibt es natürlich Gegrilltes\, Suppe\, Hausbegackenes und gute Getränke unter anderem auch „Köhler-Bier“\n26.04.26 ab 8.00 Uhr  Aufbrechen des Meilers und Ernte der Holzkohle auf unserem Parkplatz\ndazu gibt es natürlich Gegrilltes\, Suppe\, Hausgebackenes und gute Getränke unter anderem auch „Köhler-Bier“\nab 14.00 Uhr                 Erzgebirische Live-Musik mit der Gruppe Barggeschrey\nab 15.00 Uhr                 Verkauf der Original Fürstenbrunner Holzkohle
URL:https://koehlerhuette.com/event/13-historischer-meiler/
LOCATION:Hotel und Restaurant Köhlerhütte-Fürstenbrunn im Erzgebirge\, Am Fürstenberg 7\, Grünhain- Beierfeld\, Sachsen\, 08344\, Germany
ATTACH;FMTTYPE=image/jpeg:https://koehlerhuette.com/wp-content/uploads/2025/10/20230417_123010-e1759651331563.jpg
ORGANIZER;CN="Hotel & Restaurant K%C3%B6hlerh%C3%BCtte F%C3%BCrstenbrunn":MAILTO:info@koehlerhuette.com
END:VEVENT
END:VCALENDAR