BEGIN:VCALENDAR
VERSION:2.0
PRODID:-//Hotel und Restaurant Köhlerhütte - ECPv6.15.20//NONSGML v1.0//EN
CALSCALE:GREGORIAN
METHOD:PUBLISH
X-ORIGINAL-URL:https://koehlerhuette.com
X-WR-CALDESC:Veranstaltungen für Hotel und Restaurant Köhlerhütte
REFRESH-INTERVAL;VALUE=DURATION:PT1H
X-Robots-Tag:noindex
X-PUBLISHED-TTL:PT1H
BEGIN:VTIMEZONE
TZID:Europe/Berlin
BEGIN:DAYLIGHT
TZOFFSETFROM:+0100
TZOFFSETTO:+0200
TZNAME:CEST
DTSTART:20240331T010000
END:DAYLIGHT
BEGIN:STANDARD
TZOFFSETFROM:+0200
TZOFFSETTO:+0100
TZNAME:CET
DTSTART:20241027T010000
END:STANDARD
BEGIN:DAYLIGHT
TZOFFSETFROM:+0100
TZOFFSETTO:+0200
TZNAME:CEST
DTSTART:20250330T010000
END:DAYLIGHT
BEGIN:STANDARD
TZOFFSETFROM:+0200
TZOFFSETTO:+0100
TZNAME:CET
DTSTART:20251026T010000
END:STANDARD
BEGIN:DAYLIGHT
TZOFFSETFROM:+0100
TZOFFSETTO:+0200
TZNAME:CEST
DTSTART:20260329T010000
END:DAYLIGHT
BEGIN:STANDARD
TZOFFSETFROM:+0200
TZOFFSETTO:+0100
TZNAME:CET
DTSTART:20261025T010000
END:STANDARD
BEGIN:DAYLIGHT
TZOFFSETFROM:+0100
TZOFFSETTO:+0200
TZNAME:CEST
DTSTART:20270328T010000
END:DAYLIGHT
BEGIN:STANDARD
TZOFFSETFROM:+0200
TZOFFSETTO:+0100
TZNAME:CET
DTSTART:20271031T010000
END:STANDARD
END:VTIMEZONE
BEGIN:VEVENT
DTSTART;TZID=Europe/Berlin:20260307T180000
DTEND;TZID=Europe/Berlin:20260307T230000
DTSTAMP:20260420T072135
CREATED:20260127T050737Z
LAST-MODIFIED:20260209T142658Z
UID:3190-1772906400-1772924400@koehlerhuette.com
SUMMARY:Erlebnis-Abend - Kaiserschmarrn und freche Früchtchen
DESCRIPTION:Kaiserschmarrn mit frechen Früchtchen\noder\nWie verheiratet man eine Prinzessin?\nmit dem Ensemble comediantes aus Eibenstock\nErleben Sie einen glanzvollen Abend mit kulinarischen Schmankerln aus der K. u. K. Hofküche und bekannten Melodien einschlägiger Musicals. \nEintritt: 83\,00 Euro inklusive Empfangsdrink und 3-Gang-Menü
URL:https://koehlerhuette.com/event/erlebnis-abend-kaiserschmarrn-und-freche-fruechtchen/
LOCATION:Hotel und Restaurant Köhlerhütte-Fürstenbrunn im Erzgebirge\, Am Fürstenberg 7\, Grünhain- Beierfeld\, Sachsen\, 08344\, Germany
ATTACH;FMTTYPE=image/jpeg:https://koehlerhuette.com/wp-content/uploads/2026/01/Eintrittskarte_Kaiserschmarrn_2026_final-bilder-0-e1769504779782.jpg
ORGANIZER;CN="Hotel & Restaurant K%C3%B6hlerh%C3%BCtte F%C3%BCrstenbrunn":MAILTO:info@koehlerhuette.com
END:VEVENT
BEGIN:VEVENT
DTSTART;TZID=Europe/Berlin:20260101T110000
DTEND;TZID=Europe/Berlin:20260106T220000
DTSTAMP:20260420T072135
CREATED:20251220T121446Z
LAST-MODIFIED:20251220T121912Z
UID:3100-1767265200-1767736800@koehlerhuette.com
SUMMARY:Neujahrskarpfen - blau oder gebacken?
DESCRIPTION:Neujahrs-Karpfen blau oder gebacken \nAb 1. Januar 2026 bis zum 6. Januar 2026 Ankunft der Drei Heiligen Könige gibt es bei uns frische KARPFEN-Filets BLAU oder GEBACKEN aber auf jeden Fall aus Sachsen und grätenfrei
URL:https://koehlerhuette.com/event/karpfen/
LOCATION:Hotel und Restaurant Köhlerhütte-Fürstenbrunn im Erzgebirge\, Am Fürstenberg 7\, Grünhain- Beierfeld\, Sachsen\, 08344\, Germany
ATTACH;FMTTYPE=image/jpeg:https://koehlerhuette.com/wp-content/uploads/2025/12/20221230_211749.jpg
ORGANIZER;CN="Hotel & Restaurant K%C3%B6hlerh%C3%BCtte F%C3%BCrstenbrunn":MAILTO:info@koehlerhuette.com
END:VEVENT
BEGIN:VEVENT
DTSTART;TZID=Europe/Berlin:20251214T150000
DTEND;TZID=Europe/Berlin:20251214T180000
DTSTAMP:20260420T072135
CREATED:20250618T062354Z
LAST-MODIFIED:20251124T144047Z
UID:1357-1765724400-1765735200@koehlerhuette.com
SUMMARY:Hutzen-Nachmittag
DESCRIPTION:Erzgebirgische Tradition in der Adventszeit\nEin gemütlicher Nachmittag mit traditioneller Advents-Musik von den Schwarzwasserperlen Bernsbach – Geschichten und Witzen sowie und natürlich heißen und kalten Leckereien \nEintritt: 29\,00 Euro inklusive Tasse Kaffee\, Tee oder Köhlerspunsch sowie erzgebirgischer Stollen und Plätzchen vom bunten Teller\nTelefonische Reservierung unter 03774/1598-0
URL:https://koehlerhuette.com/event/hutzen-nachmittag/
LOCATION:Hotel und Restaurant Köhlerhütte-Fürstenbrunn im Erzgebirge\, Am Fürstenberg 7\, Grünhain- Beierfeld\, Sachsen\, 08344\, Germany
ATTACH;FMTTYPE=image/png:https://koehlerhuette.com/wp-content/uploads/2025/06/Schwarzwasserperlen-Weihnachten-mit-Schriftzug.png
ORGANIZER;CN="Hotel & Restaurant K%C3%B6hlerh%C3%BCtte F%C3%BCrstenbrunn":MAILTO:info@koehlerhuette.com
END:VEVENT
BEGIN:VEVENT
DTSTART;VALUE=DATE:20250830
DTEND;VALUE=DATE:20250901
DTSTAMP:20260420T072135
CREATED:20250618T063732Z
LAST-MODIFIED:20251028T095611Z
UID:1378-1756512000-1756684799@koehlerhuette.com
SUMMARY:Jubiläums-Wochenende 20 Jahre Köhlerhütte
DESCRIPTION:mit Familie Schmidt \n30.08.2025 ab 19.00 Uhr Disco-Nacht zum Jubiläum im Festzelt\n31.08.2025 ab 11.00 Uhr Tag der offnen Hintertür mit Hausführungen und musikalischer Umrahmung mit DE Buchholzer\nab 15.00 Uhr Der Prinzenraub – Aufführung vom Harzerverein Waschleithe
URL:https://koehlerhuette.com/event/jubilaeums-wochenende-20-jahre-koehlerhuette/
LOCATION:Hotel und Restaurant Köhlerhütte-Fürstenbrunn im Erzgebirge\, Am Fürstenberg 7\, Grünhain- Beierfeld\, Sachsen\, 08344\, Germany
ORGANIZER;CN="Hotel & Restaurant K%C3%B6hlerh%C3%BCtte F%C3%BCrstenbrunn":MAILTO:info@koehlerhuette.com
END:VEVENT
BEGIN:VEVENT
DTSTART;VALUE=DATE:20250624
DTEND;VALUE=DATE:20250625
DTSTAMP:20260420T072135
CREATED:20250618T063755Z
LAST-MODIFIED:20251028T095620Z
UID:1380-1750723200-1750809599@koehlerhuette.com
SUMMARY:Halbzeit - Noch 6 Monate bis Weihnachten
DESCRIPTION:Wir bieten den leckeren Gänsebraten und andere Leckereien aus der Weihnachtszeit.\nDazu gibt es Stimmung mit Lichterbogen\, Weihnachtsmusik und Räucherkerzenduft\nTisch-Reservierung unbedingt empfohlen
URL:https://koehlerhuette.com/event/halbzeit-noch-6-monate-bis-weihnachten/
LOCATION:Hotel und Restaurant Köhlerhütte-Fürstenbrunn im Erzgebirge\, Am Fürstenberg 7\, Grünhain- Beierfeld\, Sachsen\, 08344\, Germany
ATTACH;FMTTYPE=image/jpeg:https://koehlerhuette.com/wp-content/uploads/2025/06/thanksgiving-day-leckeres-essensarrangement-scaled.jpg
ORGANIZER;CN="Hotel & Restaurant K%C3%B6hlerh%C3%BCtte F%C3%BCrstenbrunn":MAILTO:info@koehlerhuette.com
END:VEVENT
BEGIN:VEVENT
DTSTART;TZID=Europe/Berlin:20250618T080000
DTEND;TZID=Europe/Berlin:20250618T170000
DTSTAMP:20260420T072135
CREATED:20250618T061740Z
LAST-MODIFIED:20251028T095714Z
UID:1349-1750233600-1750266000@koehlerhuette.com
SUMMARY:Neujahrs-Karpfen - Blau oder Gebacken?
DESCRIPTION: Ab 1. Januar bis zum 6. Januar „Ankunft der Drei Heiligen Könige“  gibt es bei uns\nfrische KARPFEN-Filets BLAU oder GEBACKEN\naber auf jeden Fall aus Sachsen und fast grätenfrei! \n 
URL:https://koehlerhuette.com/event/neujahrs-karpfen-blau-oder-gebacken/
LOCATION:Hotel und Restaurant Köhlerhütte-Fürstenbrunn im Erzgebirge\, Am Fürstenberg 7\, Grünhain- Beierfeld\, Sachsen\, 08344\, Germany
ATTACH;FMTTYPE=image/jpeg:https://koehlerhuette.com/wp-content/uploads/2025/06/Karpfen_blau.jpg
ORGANIZER;CN="Hotel & Restaurant K%C3%B6hlerh%C3%BCtte F%C3%BCrstenbrunn":MAILTO:info@koehlerhuette.com
END:VEVENT
END:VCALENDAR