BEGIN:VCALENDAR
VERSION:2.0
PRODID:-//Hotel und Restaurant Köhlerhütte - ECPv6.15.20//NONSGML v1.0//EN
CALSCALE:GREGORIAN
METHOD:PUBLISH
X-ORIGINAL-URL:https://koehlerhuette.com
X-WR-CALDESC:Veranstaltungen für Hotel und Restaurant Köhlerhütte
REFRESH-INTERVAL;VALUE=DURATION:PT1H
X-Robots-Tag:noindex
X-PUBLISHED-TTL:PT1H
BEGIN:VTIMEZONE
TZID:Europe/Berlin
BEGIN:DAYLIGHT
TZOFFSETFROM:+0100
TZOFFSETTO:+0200
TZNAME:CEST
DTSTART:20250330T010000
END:DAYLIGHT
BEGIN:STANDARD
TZOFFSETFROM:+0200
TZOFFSETTO:+0100
TZNAME:CET
DTSTART:20251026T010000
END:STANDARD
BEGIN:DAYLIGHT
TZOFFSETFROM:+0100
TZOFFSETTO:+0200
TZNAME:CEST
DTSTART:20260329T010000
END:DAYLIGHT
BEGIN:STANDARD
TZOFFSETFROM:+0200
TZOFFSETTO:+0100
TZNAME:CET
DTSTART:20261025T010000
END:STANDARD
BEGIN:DAYLIGHT
TZOFFSETFROM:+0100
TZOFFSETTO:+0200
TZNAME:CEST
DTSTART:20270328T010000
END:DAYLIGHT
BEGIN:STANDARD
TZOFFSETFROM:+0200
TZOFFSETTO:+0100
TZNAME:CET
DTSTART:20271031T010000
END:STANDARD
END:VTIMEZONE
BEGIN:VEVENT
DTSTART;TZID=Europe/Berlin:20260501T110000
DTEND;TZID=Europe/Berlin:20260501T170000
DTSTAMP:20260422T123311
CREATED:20250124T070704Z
LAST-MODIFIED:20260405T085652Z
UID:896-1777633200-1777654800@koehlerhuette.com
SUMMARY:Offizielle Biergarten-Saisoneröffnung
DESCRIPTION:wir bieten Ihnen in unserem Biergarten verschiedene Grillspezialitäten\, Suppe\, hausgebackenen Kuchen\, frisch Gezapftes und viele weiteren Leckereien.\nab 14 Uhr Blasmusik mit den Erzgebirgischen Blas-Musikanten Zwönitz/Affalter
URL:https://koehlerhuette.com/event/offizielle-biergarten-saisoneroeffnung/
LOCATION:Hotel und Restaurant Köhlerhütte-Fürstenbrunn im Erzgebirge\, Am Fürstenberg 7\, Grünhain- Beierfeld\, Sachsen\, 08344\, Germany
ATTACH;FMTTYPE=image/jpeg:https://koehlerhuette.com/wp-content/uploads/2025/01/20240424_192403.jpg
ORGANIZER;CN="Hotel & Restaurant K%C3%B6hlerh%C3%BCtte F%C3%BCrstenbrunn":MAILTO:info@koehlerhuette.com
END:VEVENT
BEGIN:VEVENT
DTSTART;TZID=Europe/Berlin:20260510T110000
DTEND;TZID=Europe/Berlin:20260510T150000
DTSTAMP:20260422T123311
CREATED:20250124T070756Z
LAST-MODIFIED:20260411T100328Z
UID:898-1778410800-1778425200@koehlerhuette.com
SUMMARY:Spargel-Büffet zum Muttertag
DESCRIPTION:Nehmen Sie sich die Zeit für Familie! Laden Sie Ihre Mutter ein und genießen Sie bei uns in der Köhlerhütte-Fürstenbrunn das vorzügliche Angebot vom reichhaltigen Kalt-Warmen-Büffet mit Sächsischem Spargel in vielen Varianten und mit Beilagen \nTelefonische Reservierung unter 03774/1598-0\nPreise: 42\,00 Euro pro Erwachsener\, 23\,00 Euro für Kinder von 6-16 Jahren und Kinder unter 5 Jahre sind kostenfrei \nBitte beachten Sie\, dass am 10. Mai 2026 ab 15.00 Uhr anlässlich 100 Jahre Schaubergwerk Waschleithe ein Bergmannsaufzug stattfindet\nAbreise ist daher nur bis 14.30 Uhr möglich.\nWir empfehlen allerdings den Bergaufzug als Zuschauer zu genießen
URL:https://koehlerhuette.com/event/spargel-bueffet-zum-muttertag/
LOCATION:Hotel und Restaurant Köhlerhütte-Fürstenbrunn im Erzgebirge\, Am Fürstenberg 7\, Grünhain- Beierfeld\, Sachsen\, 08344\, Germany
ATTACH;FMTTYPE=image/jpeg:https://koehlerhuette.com/wp-content/uploads/2025/01/Eintrittskarte_Muttertags_Spargelbueffet_2026.jpg
ORGANIZER;CN="Hotel & Restaurant K%C3%B6hlerh%C3%BCtte F%C3%BCrstenbrunn":MAILTO:info@koehlerhuette.com
END:VEVENT
BEGIN:VEVENT
DTSTART;VALUE=DATE:20260514
DTEND;VALUE=DATE:20260515
DTSTAMP:20260422T123311
CREATED:20250124T070836Z
LAST-MODIFIED:20260411T101715Z
UID:900-1778716800-1778803199@koehlerhuette.com
SUMMARY:Christi Himmelfahrt
DESCRIPTION:Männer- und Familientag an traditioneller und historischer Stätte vor der Köhlerhütte-Fürstenbrunn\nmit Deftigem vom Grill\, Suppe\, hausgebackenen Kuchen sowie guten Getränken.\nHier können Sie was erleben\, viel lustige Truppen laufen oder fahren uns mit historischen Gefährten an und tragen sogar zum Kulturprogramm teil\nDen ganzen Tag Musik und Spass live mit der Partyband Mittendrin
URL:https://koehlerhuette.com/event/christi-himmelfahrt/
LOCATION:Hotel und Restaurant Köhlerhütte-Fürstenbrunn im Erzgebirge\, Am Fürstenberg 7\, Grünhain- Beierfeld\, Sachsen\, 08344\, Germany
ATTACH;FMTTYPE=image/jpeg:https://koehlerhuette.com/wp-content/uploads/2025/01/IMG-20220527-WA0009.jpg
ORGANIZER;CN="Hotel & Restaurant K%C3%B6hlerh%C3%BCtte F%C3%BCrstenbrunn":MAILTO:info@koehlerhuette.com
END:VEVENT
BEGIN:VEVENT
DTSTART;VALUE=DATE:20260524
DTEND;VALUE=DATE:20260526
DTSTAMP:20260422T123311
CREATED:20250429T071412Z
LAST-MODIFIED:20260404T115000Z
UID:1183-1779580800-1779753599@koehlerhuette.com
SUMMARY:Pfingsten an der Köhlerhütte
DESCRIPTION:ein lohnendes Wanderziel für Ihren Pfingstausflug im Erzgebirge. \nIm Biergarten bieten wir Schwein am Spieß auf offenen Feuer gegrillt\,\nGrill-Spezialitäten\, Suppe\, gute Getränke\, Eis\, hausgebackenen Kuchen und vieles mehr… \nPfingst-Sonntag\n14.00 – 16.00 Uhr Stimmungsvolles Erzgebirgisches Volksmusik-Live-Programm De Hutzenbossen \nPfingst-Montag\n14.00 – 16.00 Uhr Stimmungsvolles Programm mit der Schalmeienkapelle Steinbach
URL:https://koehlerhuette.com/event/pfingsten-an-der-koehlerhuette/
LOCATION:Hotel und Restaurant Köhlerhütte-Fürstenbrunn im Erzgebirge\, Am Fürstenberg 7\, Grünhain- Beierfeld\, Sachsen\, 08344\, Germany
ATTACH;FMTTYPE=image/jpeg:https://koehlerhuette.com/wp-content/uploads/2025/04/Plakat_Pfingsten2025.jpg
ORGANIZER;CN="Hotel & Restaurant K%C3%B6hlerh%C3%BCtte F%C3%BCrstenbrunn":MAILTO:info@koehlerhuette.com
END:VEVENT
END:VCALENDAR